BEGIN:VCALENDAR
VERSION:2.0
PRODID:-//49th Ohio Volunteers - ECPv6.15.20//NONSGML v1.0//EN
CALSCALE:GREGORIAN
METHOD:PUBLISH
X-ORIGINAL-URL:https://49thohio.com
X-WR-CALDESC:Events for 49th Ohio Volunteers
REFRESH-INTERVAL;VALUE=DURATION:PT1H
X-Robots-Tag:noindex
X-PUBLISHED-TTL:PT1H
BEGIN:VTIMEZONE
TZID:America/Los_Angeles
BEGIN:DAYLIGHT
TZOFFSETFROM:-0800
TZOFFSETTO:-0700
TZNAME:PDT
DTSTART:20220313T100000
END:DAYLIGHT
BEGIN:STANDARD
TZOFFSETFROM:-0700
TZOFFSETTO:-0800
TZNAME:PST
DTSTART:20221106T090000
END:STANDARD
BEGIN:DAYLIGHT
TZOFFSETFROM:-0800
TZOFFSETTO:-0700
TZNAME:PDT
DTSTART:20230312T100000
END:DAYLIGHT
BEGIN:STANDARD
TZOFFSETFROM:-0700
TZOFFSETTO:-0800
TZNAME:PST
DTSTART:20231105T090000
END:STANDARD
BEGIN:DAYLIGHT
TZOFFSETFROM:-0800
TZOFFSETTO:-0700
TZNAME:PDT
DTSTART:20240310T100000
END:DAYLIGHT
BEGIN:STANDARD
TZOFFSETFROM:-0700
TZOFFSETTO:-0800
TZNAME:PST
DTSTART:20241103T090000
END:STANDARD
END:VTIMEZONE
BEGIN:VEVENT
DTSTART;VALUE=DATE:20230429
DTEND;VALUE=DATE:20230430
DTSTAMP:20260421T131515
CREATED:20230117T160107Z
LAST-MODIFIED:20230407T042400Z
UID:2249-1682726400-1682812799@49thohio.com
SUMMARY:Rileys Farm
DESCRIPTION:This is a worthwhile official UAotW event with a free reenactor lunch on Saturday and the farm is a good setting for the battles. This is a one day event this time…those that wish to camp can set up tents after 4:00 pm on Friday. But probably more practical for locals to just come Saturday morning. No reenactor fees.
URL:https://49thohio.com/event/rileys-farm-3/
LOCATION:Rileys Farm\, 12261 Oak Glen Road\, Oak Glen\, CA\, 92399\, United States
END:VEVENT
END:VCALENDAR